Package: RnBeads.mm10 Version: 2.18.0 Command: /home/biocbuild/bbs-3.22-bioc/R/bin/R CMD build --keep-empty-dirs --no-resave-data RnBeads.mm10 StartedAt: 2025-11-04 11:39:17 -0500 (Tue, 04 Nov 2025) EndedAt: 2025-11-04 11:39:28 -0500 (Tue, 04 Nov 2025) EllapsedTime: 10.7 seconds RetCode: 0 Status: OK PackageFile: RnBeads.mm10_2.18.0.tar.gz PackageFileSize: 149.1 MiB