Package: RnBeads.hg38 Version: 1.42.0 Command: /home/biocbuild/bbs-3.22-bioc/R/bin/R CMD INSTALL RnBeads.hg38 StartedAt: 2025-11-04 10:58:08 -0500 (Tue, 04 Nov 2025) EndedAt: 2025-11-04 10:58:14 -0500 (Tue, 04 Nov 2025) EllapsedTime: 6.8 seconds RetCode: 0 Status: OK