Package: RnBeads.hg19 Version: 1.42.0 Command: /home/biocbuild/bbs-3.22-bioc/R/bin/R CMD INSTALL RnBeads.hg19 StartedAt: 2025-11-04 10:58:12 -0500 (Tue, 04 Nov 2025) EndedAt: 2025-11-04 10:58:19 -0500 (Tue, 04 Nov 2025) EllapsedTime: 7.1 seconds RetCode: 0 Status: OK