Package: RforProteomics Version: 1.47.2 Command: /home/biocbuild/bbs-3.22-bioc/R/bin/R CMD check --install=check:RforProteomics.install-out.txt --library=/home/biocbuild/bbs-3.22-bioc/R/site-library --timings RforProteomics_1.47.2.tar.gz StartedAt: 2025-10-28 12:54:25 -0400 (Tue, 28 Oct 2025) EndedAt: 2025-10-28 13:04:50 -0400 (Tue, 28 Oct 2025) EllapsedTime: 624.7 seconds RetCode: 0 Status: WARNINGS CheckDir: RforProteomics.Rcheck Warnings: 1