Package: RegParallel Version: 1.28.0 Command: /home/biocbuild/bbs-3.22-bioc/R/bin/R CMD INSTALL RegParallel StartedAt: 2025-10-30 11:07:42 -0400 (Thu, 30 Oct 2025) EndedAt: 2025-10-30 11:07:53 -0400 (Thu, 30 Oct 2025) EllapsedTime: 10.7 seconds RetCode: 0 Status: OK