Package: ReactomeGSA.data Version: 1.24.0 Command: /home/biocbuild/bbs-3.22-bioc/R/bin/R CMD build --keep-empty-dirs --no-resave-data ReactomeGSA.data StartedAt: 2025-10-30 11:47:40 -0400 (Thu, 30 Oct 2025) EndedAt: 2025-10-30 11:49:03 -0400 (Thu, 30 Oct 2025) EllapsedTime: 83.7 seconds RetCode: 0 Status: OK PackageFile: ReactomeGSA.data_1.24.0.tar.gz PackageFileSize: 23.08 MiB