Package: RcisTarget.hg19.motifDBs.cisbpOnly.500bp Version: 1.30.0 Command: /home/biocbuild/bbs-3.22-bioc/R/bin/R CMD INSTALL RcisTarget.hg19.motifDBs.cisbpOnly.500bp StartedAt: 2025-10-30 10:56:25 -0400 (Thu, 30 Oct 2025) EndedAt: 2025-10-30 10:56:37 -0400 (Thu, 30 Oct 2025) EllapsedTime: 11.2 seconds RetCode: 0 Status: OK