Package: RcisTarget.hg19.motifDBs.cisbpOnly.500bp Version: 1.30.0 Command: /home/biocbuild/bbs-3.22-bioc/R/bin/R CMD build --keep-empty-dirs --no-resave-data RcisTarget.hg19.motifDBs.cisbpOnly.500bp StartedAt: 2025-10-30 11:47:36 -0400 (Thu, 30 Oct 2025) EndedAt: 2025-10-30 11:47:49 -0400 (Thu, 30 Oct 2025) EllapsedTime: 13.3 seconds RetCode: 0 Status: OK PackageFile: RcisTarget.hg19.motifDBs.cisbpOnly.500bp_1.30.0.tar.gz PackageFileSize: 53.48 MiB