Package: RTCGA.mutations Version: 20151101.40.0 Command: /home/biocbuild/bbs-3.22-bioc/R/bin/R CMD INSTALL RTCGA.mutations StartedAt: 2025-11-20 11:05:39 -0500 (Thu, 20 Nov 2025) EndedAt: 2025-11-20 11:08:45 -0500 (Thu, 20 Nov 2025) EllapsedTime: 186.1 seconds RetCode: 0 Status: OK