Package: RTCGA.mutations Version: 20151101.40.0 Command: /home/biocbuild/bbs-3.22-bioc/R/bin/R CMD build --keep-empty-dirs --no-resave-data RTCGA.mutations StartedAt: 2025-11-20 11:42:50 -0500 (Thu, 20 Nov 2025) EndedAt: 2025-11-20 11:46:11 -0500 (Thu, 20 Nov 2025) EllapsedTime: 201.1 seconds RetCode: 0 Status: OK PackageFile: RTCGA.mutations_20151101.40.0.tar.gz PackageFileSize: 103.8 MiB