Package: RTCGA.miRNASeq Version: 1.38.0 Command: /home/biocbuild/bbs-3.22-bioc/R/bin/R CMD INSTALL RTCGA.miRNASeq StartedAt: 2025-11-04 11:04:30 -0500 (Tue, 04 Nov 2025) EndedAt: 2025-11-04 11:06:18 -0500 (Tue, 04 Nov 2025) EllapsedTime: 107.9 seconds RetCode: 0 Status: OK