Package: RTCGA.miRNASeq Version: 1.38.0 Command: /home/biocbuild/bbs-3.22-bioc/R/bin/R CMD check --install=check:RTCGA.miRNASeq.install-out.txt --library=/home/biocbuild/bbs-3.22-bioc/R/site-library --timings RTCGA.miRNASeq_1.38.0.tar.gz StartedAt: 2025-11-04 12:53:00 -0500 (Tue, 04 Nov 2025) EndedAt: 2025-11-04 12:55:45 -0500 (Tue, 04 Nov 2025) EllapsedTime: 165.1 seconds RetCode: 0 Status: WARNINGS CheckDir: RTCGA.miRNASeq.Rcheck Warnings: 1