Package: RTCGA.miRNASeq Version: 1.38.0 Command: /home/biocbuild/bbs-3.22-bioc/R/bin/R CMD build --keep-empty-dirs --no-resave-data RTCGA.miRNASeq StartedAt: 2025-11-04 11:39:58 -0500 (Tue, 04 Nov 2025) EndedAt: 2025-11-04 11:41:53 -0500 (Tue, 04 Nov 2025) EllapsedTime: 114.5 seconds RetCode: 0 Status: OK PackageFile: RTCGA.miRNASeq_1.38.0.tar.gz PackageFileSize: 45.24 MiB