Package: RTCGA.methylation Version: 1.38.0 Command: /home/biocbuild/bbs-3.22-bioc/R/bin/R CMD INSTALL RTCGA.methylation StartedAt: 2025-11-18 11:05:07 -0500 (Tue, 18 Nov 2025) EndedAt: 2025-11-18 11:07:39 -0500 (Tue, 18 Nov 2025) EllapsedTime: 152.2 seconds RetCode: 0 Status: OK