Package: RTCGA.methylation Version: 1.38.0 Command: /home/biocbuild/bbs-3.22-bioc/R/bin/R CMD build --keep-empty-dirs --no-resave-data RTCGA.methylation StartedAt: 2025-11-18 12:04:33 -0500 (Tue, 18 Nov 2025) EndedAt: 2025-11-18 12:07:43 -0500 (Tue, 18 Nov 2025) EllapsedTime: 189.8 seconds RetCode: 0 Status: OK PackageFile: RTCGA.methylation_1.38.0.tar.gz PackageFileSize: 622.8 MiB