Package: RTCGA.clinical Version: 20151101.40.0 Command: /home/biocbuild/bbs-3.22-bioc/R/bin/R CMD INSTALL RTCGA.clinical StartedAt: 2025-11-04 11:04:42 -0500 (Tue, 04 Nov 2025) EndedAt: 2025-11-04 11:05:24 -0500 (Tue, 04 Nov 2025) EllapsedTime: 42.7 seconds RetCode: 0 Status: OK