Package: RTCGA.clinical Version: 20151101.40.0 Command: /home/biocbuild/bbs-3.22-bioc/R/bin/R CMD check --install=check:RTCGA.clinical.install-out.txt --library=/home/biocbuild/bbs-3.22-bioc/R/site-library --timings RTCGA.clinical_20151101.40.0.tar.gz StartedAt: 2025-11-04 12:51:58 -0500 (Tue, 04 Nov 2025) EndedAt: 2025-11-04 12:53:39 -0500 (Tue, 04 Nov 2025) EllapsedTime: 100.7 seconds RetCode: 0 Status: WARNINGS CheckDir: RTCGA.clinical.Rcheck Warnings: 1