Package: RTCGA.RPPA Version: 1.36.0 Command: /home/biocbuild/bbs-3.21-bioc/R/bin/R CMD check --install=check:RTCGA.RPPA.install-out.txt --library=/home/biocbuild/bbs-3.21-bioc/R/site-library --timings RTCGA.RPPA_1.36.0.tar.gz StartedAt: 2025-10-09 12:55:10 -0400 (Thu, 09 Oct 2025) EndedAt: 2025-10-09 12:56:25 -0400 (Thu, 09 Oct 2025) EllapsedTime: 75.3 seconds RetCode: 0 Status: WARNINGS CheckDir: RTCGA.RPPA.Rcheck Warnings: 1