Package: RRBSdata Version: 1.30.0 Command: /home/biocbuild/bbs-3.22-bioc/R/bin/R CMD INSTALL RRBSdata StartedAt: 2025-11-04 11:01:15 -0500 (Tue, 04 Nov 2025) EndedAt: 2025-11-04 11:01:39 -0500 (Tue, 04 Nov 2025) EllapsedTime: 24.2 seconds RetCode: 0 Status: OK