Package: RNAseqData.HNRNPC.bam.chr14 Version: 0.48.0 Command: /home/biocbuild/bbs-3.22-bioc/R/bin/R CMD INSTALL RNAseqData.HNRNPC.bam.chr14 StartedAt: 2025-10-30 10:55:55 -0400 (Thu, 30 Oct 2025) EndedAt: 2025-10-30 10:56:27 -0400 (Thu, 30 Oct 2025) EllapsedTime: 31.4 seconds RetCode: 0 Status: OK