Package: RNAseqData.HNRNPC.bam.chr14 Version: 0.48.0 Command: /home/biocbuild/bbs-3.22-bioc/R/bin/R CMD build --keep-empty-dirs --no-resave-data RNAseqData.HNRNPC.bam.chr14 StartedAt: 2025-10-30 11:48:48 -0400 (Thu, 30 Oct 2025) EndedAt: 2025-10-30 11:49:36 -0400 (Thu, 30 Oct 2025) EllapsedTime: 48.3 seconds RetCode: 0 Status: OK PackageFile: RNAseqData.HNRNPC.bam.chr14_0.48.0.tar.gz PackageFileSize: 332.5 MiB