Package: RNAmodR.Data Version: 1.24.0 Command: /home/biocbuild/bbs-3.22-bioc/R/bin/R CMD build --keep-empty-dirs --no-resave-data RNAmodR.Data StartedAt: 2025-11-04 11:38:38 -0500 (Tue, 04 Nov 2025) EndedAt: 2025-11-04 11:39:36 -0500 (Tue, 04 Nov 2025) EllapsedTime: 57.6 seconds RetCode: 0 Status: OK PackageFile: RNAmodR.Data_1.24.0.tar.gz PackageFileSize: 304.9 KiB