Package: RMassBankData Version: 1.48.0 Command: /home/biocbuild/bbs-3.22-bioc/R/bin/R CMD INSTALL RMassBankData StartedAt: 2025-11-04 10:55:46 -0500 (Tue, 04 Nov 2025) EndedAt: 2025-11-04 10:55:49 -0500 (Tue, 04 Nov 2025) EllapsedTime: 3.1 seconds RetCode: 0 Status: OK