Package: RMassBankData Version: 1.48.0 Command: /home/biocbuild/bbs-3.22-bioc/R/bin/R CMD check --install=check:RMassBankData.install-out.txt --library=/home/biocbuild/bbs-3.22-bioc/R/site-library --timings RMassBankData_1.48.0.tar.gz StartedAt: 2025-11-04 12:48:50 -0500 (Tue, 04 Nov 2025) EndedAt: 2025-11-04 12:49:11 -0500 (Tue, 04 Nov 2025) EllapsedTime: 21.0 seconds RetCode: 0 Status: OK CheckDir: RMassBankData.Rcheck Warnings: 0