Package: RITANdata Version: 1.34.0 Command: /home/biocbuild/bbs-3.22-bioc/R/bin/R CMD build --keep-empty-dirs --no-resave-data RITANdata StartedAt: 2025-11-04 11:38:24 -0500 (Tue, 04 Nov 2025) EndedAt: 2025-11-04 11:38:59 -0500 (Tue, 04 Nov 2025) EllapsedTime: 35.7 seconds RetCode: 0 Status: OK PackageFile: RITANdata_1.34.0.tar.gz PackageFileSize: 7.415 MiB