Package: QDNAseq.hg19 Version: 1.40.0 Command: /home/biocbuild/bbs-3.22-bioc/R/bin/R CMD INSTALL QDNAseq.hg19 StartedAt: 2025-11-04 11:02:56 -0500 (Tue, 04 Nov 2025) EndedAt: 2025-11-04 11:03:09 -0500 (Tue, 04 Nov 2025) EllapsedTime: 13.3 seconds RetCode: 0 Status: OK