Package: QDNAseq.hg19 Version: 1.40.0 Command: /home/biocbuild/bbs-3.22-bioc/R/bin/R CMD check --install=check:QDNAseq.hg19.install-out.txt --library=/home/biocbuild/bbs-3.22-bioc/R/site-library --timings QDNAseq.hg19_1.40.0.tar.gz StartedAt: 2025-11-04 12:46:29 -0500 (Tue, 04 Nov 2025) EndedAt: 2025-11-04 12:48:50 -0500 (Tue, 04 Nov 2025) EllapsedTime: 140.5 seconds RetCode: 0 Status: OK CheckDir: QDNAseq.hg19.Rcheck Warnings: 0