Package: QDNAseq.hg19 Version: 1.40.0 Command: /home/biocbuild/bbs-3.22-bioc/R/bin/R CMD build --keep-empty-dirs --no-resave-data QDNAseq.hg19 StartedAt: 2025-11-04 11:37:25 -0500 (Tue, 04 Nov 2025) EndedAt: 2025-11-04 11:37:29 -0500 (Tue, 04 Nov 2025) EllapsedTime: 3.4 seconds RetCode: 0 Status: OK PackageFile: QDNAseq.hg19_1.40.0.tar.gz PackageFileSize: 35.26 MiB