Package: PtH2O2lipids Version: 1.36.0 Command: /home/biocbuild/bbs-3.22-bioc/R/bin/R CMD INSTALL PtH2O2lipids StartedAt: 2025-10-30 11:06:22 -0400 (Thu, 30 Oct 2025) EndedAt: 2025-10-30 11:07:21 -0400 (Thu, 30 Oct 2025) EllapsedTime: 59.6 seconds RetCode: 0 Status: OK