Package: PtH2O2lipids Version: 1.36.0 Command: /home/biocbuild/bbs-3.22-bioc/R/bin/R CMD check --install=check:PtH2O2lipids.install-out.txt --library=/home/biocbuild/bbs-3.22-bioc/R/site-library --timings PtH2O2lipids_1.36.0.tar.gz StartedAt: 2025-11-04 12:45:44 -0500 (Tue, 04 Nov 2025) EndedAt: 2025-11-04 12:52:03 -0500 (Tue, 04 Nov 2025) EllapsedTime: 379.6 seconds RetCode: 0 Status: WARNINGS CheckDir: PtH2O2lipids.Rcheck Warnings: 1