Package: PtH2O2lipids Version: 1.36.0 Command: /home/biocbuild/bbs-3.22-bioc/R/bin/R CMD build --keep-empty-dirs --no-resave-data PtH2O2lipids StartedAt: 2025-10-30 11:46:51 -0400 (Thu, 30 Oct 2025) EndedAt: 2025-10-30 11:46:53 -0400 (Thu, 30 Oct 2025) EllapsedTime: 2.3 seconds RetCode: 0 Status: OK PackageFile: PtH2O2lipids_1.36.0.tar.gz PackageFileSize: 15.48 MiB