Package: ProteinGymR Version: 1.4.0 Command: /home/biocbuild/bbs-3.22-bioc/R/bin/R CMD INSTALL ProteinGymR StartedAt: 2025-11-04 10:56:54 -0500 (Tue, 04 Nov 2025) EndedAt: 2025-11-04 10:57:09 -0500 (Tue, 04 Nov 2025) EllapsedTime: 15.4 seconds RetCode: 0 Status: OK