Package: ProteinGymR Version: 1.4.0 Command: /home/biocbuild/bbs-3.22-bioc/R/bin/R CMD check --install=check:ProteinGymR.install-out.txt --library=/home/biocbuild/bbs-3.22-bioc/R/site-library --timings ProteinGymR_1.4.0.tar.gz StartedAt: 2025-11-04 12:45:41 -0500 (Tue, 04 Nov 2025) EndedAt: 2025-11-04 12:59:40 -0500 (Tue, 04 Nov 2025) EllapsedTime: 838.9 seconds RetCode: 0 Status: OK CheckDir: ProteinGymR.Rcheck Warnings: 0