Package: ProData Version: 1.48.0 Command: /home/biocbuild/bbs-3.22-bioc/R/bin/R CMD INSTALL ProData StartedAt: 2025-10-30 10:56:36 -0400 (Thu, 30 Oct 2025) EndedAt: 2025-10-30 10:56:40 -0400 (Thu, 30 Oct 2025) EllapsedTime: 3.7 seconds RetCode: 0 Status: OK