Package: PhyloProfileData Version: 1.23.3 Command: /home/biocbuild/bbs-3.22-bioc/R/bin/R CMD check --install=check:PhyloProfileData.install-out.txt --library=/home/biocbuild/bbs-3.22-bioc/R/site-library --timings PhyloProfileData_1.23.3.tar.gz StartedAt: 2025-10-28 12:50:52 -0400 (Tue, 28 Oct 2025) EndedAt: 2025-10-28 12:52:36 -0400 (Tue, 28 Oct 2025) EllapsedTime: 104.1 seconds RetCode: 0 Status: OK CheckDir: PhyloProfileData.Rcheck Warnings: 0