Package: PepsNMRData Version: 1.28.0 Command: /home/biocbuild/bbs-3.22-bioc/R/bin/R CMD build --keep-empty-dirs --no-resave-data PepsNMRData StartedAt: 2025-11-04 11:36:00 -0500 (Tue, 04 Nov 2025) EndedAt: 2025-11-04 11:36:14 -0500 (Tue, 04 Nov 2025) EllapsedTime: 13.7 seconds RetCode: 0 Status: OK PackageFile: PepsNMRData_1.28.0.tar.gz PackageFileSize: 31.89 MiB