Package: PasillaTranscriptExpr Version: 1.38.0 Command: /home/biocbuild/bbs-3.22-bioc/R/bin/R CMD build --keep-empty-dirs --no-resave-data PasillaTranscriptExpr StartedAt: 2025-11-20 11:38:09 -0500 (Thu, 20 Nov 2025) EndedAt: 2025-11-20 11:38:25 -0500 (Thu, 20 Nov 2025) EllapsedTime: 16.0 seconds RetCode: 0 Status: OK PackageFile: PasillaTranscriptExpr_1.38.0.tar.gz PackageFileSize: 784 KiB