Package: PWMEnrich.Mmusculus.background Version: 4.44.0 Command: /home/biocbuild/bbs-3.22-bioc/R/bin/R CMD INSTALL PWMEnrich.Mmusculus.background StartedAt: 2025-10-30 10:57:05 -0400 (Thu, 30 Oct 2025) EndedAt: 2025-10-30 10:57:15 -0400 (Thu, 30 Oct 2025) EllapsedTime: 10.1 seconds RetCode: 0 Status: OK