Package: PWMEnrich.Hsapiens.background Version: 4.44.0 Command: /home/biocbuild/bbs-3.22-bioc/R/bin/R CMD INSTALL PWMEnrich.Hsapiens.background StartedAt: 2025-11-04 10:57:36 -0500 (Tue, 04 Nov 2025) EndedAt: 2025-11-04 10:57:42 -0500 (Tue, 04 Nov 2025) EllapsedTime: 6.7 seconds RetCode: 0 Status: OK