Package: PWMEnrich.Hsapiens.background Version: 4.44.0 Command: /home/biocbuild/bbs-3.22-bioc/R/bin/R CMD check --install=check:PWMEnrich.Hsapiens.background.install-out.txt --library=/home/biocbuild/bbs-3.22-bioc/R/site-library --timings PWMEnrich.Hsapiens.background_4.44.0.tar.gz StartedAt: 2025-11-04 12:46:02 -0500 (Tue, 04 Nov 2025) EndedAt: 2025-11-04 12:46:43 -0500 (Tue, 04 Nov 2025) EllapsedTime: 41.0 seconds RetCode: 0 Status: OK CheckDir: PWMEnrich.Hsapiens.background.Rcheck Warnings: 0