Package: PWMEnrich.Hsapiens.background Version: 4.44.0 Command: /home/biocbuild/bbs-3.22-bioc/R/bin/R CMD build --keep-empty-dirs --no-resave-data PWMEnrich.Hsapiens.background StartedAt: 2025-11-04 11:37:21 -0500 (Tue, 04 Nov 2025) EndedAt: 2025-11-04 11:37:23 -0500 (Tue, 04 Nov 2025) EllapsedTime: 2.0 seconds RetCode: 0 Status: OK PackageFile: PWMEnrich.Hsapiens.background_4.44.0.tar.gz PackageFileSize: 12.31 MiB