Package: PWMEnrich.Hsapiens.background Version: 4.42.0 Command: /home/biocbuild/bbs-3.21-bioc/R/bin/R CMD check --install=check:PWMEnrich.Hsapiens.background.install-out.txt --library=/home/biocbuild/bbs-3.21-bioc/R/site-library --timings PWMEnrich.Hsapiens.background_4.42.0.tar.gz StartedAt: 2025-10-16 12:46:22 -0400 (Thu, 16 Oct 2025) EndedAt: 2025-10-16 12:47:03 -0400 (Thu, 16 Oct 2025) EllapsedTime: 41.2 seconds RetCode: 0 Status: OK CheckDir: PWMEnrich.Hsapiens.background.Rcheck Warnings: 0