Package: PWMEnrich.Dmelanogaster.background Version: 4.44.0 Command: /home/biocbuild/bbs-3.22-bioc/R/bin/R CMD INSTALL PWMEnrich.Dmelanogaster.background StartedAt: 2025-11-04 10:56:37 -0500 (Tue, 04 Nov 2025) EndedAt: 2025-11-04 10:56:44 -0500 (Tue, 04 Nov 2025) EllapsedTime: 7.0 seconds RetCode: 0 Status: OK