Package: PWMEnrich.Dmelanogaster.background Version: 4.44.0 Command: /home/biocbuild/bbs-3.22-bioc/R/bin/R CMD build --keep-empty-dirs --no-resave-data PWMEnrich.Dmelanogaster.background StartedAt: 2025-11-04 11:37:19 -0500 (Tue, 04 Nov 2025) EndedAt: 2025-11-04 11:37:20 -0500 (Tue, 04 Nov 2025) EllapsedTime: 1.0 seconds RetCode: 0 Status: OK PackageFile: PWMEnrich.Dmelanogaster.background_4.44.0.tar.gz PackageFileSize: 6.539 MiB