Package: PWMEnrich.Dmelanogaster.background Version: 4.42.0 Command: /home/biocbuild/bbs-3.21-bioc/R/bin/R CMD INSTALL PWMEnrich.Dmelanogaster.background StartedAt: 2025-10-09 10:56:47 -0400 (Thu, 09 Oct 2025) EndedAt: 2025-10-09 10:56:54 -0400 (Thu, 09 Oct 2025) EllapsedTime: 6.8 seconds RetCode: 0 Status: OK