Package: PWMEnrich.Dmelanogaster.background Version: 4.42.0 Command: /home/biocbuild/bbs-3.21-bioc/R/bin/R CMD build --keep-empty-dirs --no-resave-data PWMEnrich.Dmelanogaster.background StartedAt: 2025-10-09 11:33:59 -0400 (Thu, 09 Oct 2025) EndedAt: 2025-10-09 11:34:00 -0400 (Thu, 09 Oct 2025) EllapsedTime: 1.0 seconds RetCode: 0 Status: OK PackageFile: PWMEnrich.Dmelanogaster.background_4.42.0.tar.gz PackageFileSize: 6.539 MiB