Package: PREDAsampledata Version: 0.50.0 Command: /home/biocbuild/bbs-3.22-bioc/R/bin/R CMD check --install=check:PREDAsampledata.install-out.txt --library=/home/biocbuild/bbs-3.22-bioc/R/site-library --timings PREDAsampledata_0.50.0.tar.gz StartedAt: 2025-11-04 12:44:57 -0500 (Tue, 04 Nov 2025) EndedAt: 2025-11-04 12:46:47 -0500 (Tue, 04 Nov 2025) EllapsedTime: 109.5 seconds RetCode: 0 Status: OK CheckDir: PREDAsampledata.Rcheck Warnings: 0