Package: OnassisJavaLibs Version: 1.32.0 Command: /home/biocbuild/bbs-3.22-bioc/R/bin/R CMD INSTALL OnassisJavaLibs StartedAt: 2025-11-18 10:56:32 -0500 (Tue, 18 Nov 2025) EndedAt: 2025-11-18 10:56:37 -0500 (Tue, 18 Nov 2025) EllapsedTime: 5.0 seconds RetCode: 0 Status: OK