Package: OnassisJavaLibs Version: 1.32.0 Command: /home/biocbuild/bbs-3.22-bioc/R/bin/R CMD check --install=check:OnassisJavaLibs.install-out.txt --library=/home/biocbuild/bbs-3.22-bioc/R/site-library --timings OnassisJavaLibs_1.32.0.tar.gz StartedAt: 2025-11-18 13:20:40 -0500 (Tue, 18 Nov 2025) EndedAt: 2025-11-18 13:21:22 -0500 (Tue, 18 Nov 2025) EllapsedTime: 42.0 seconds RetCode: 0 Status: OK CheckDir: OnassisJavaLibs.Rcheck Warnings: 0