Package: OnassisJavaLibs Version: 1.32.0 Command: /home/biocbuild/bbs-3.22-bioc/R/bin/R CMD build --keep-empty-dirs --no-resave-data OnassisJavaLibs StartedAt: 2025-11-18 11:57:43 -0500 (Tue, 18 Nov 2025) EndedAt: 2025-11-18 11:57:54 -0500 (Tue, 18 Nov 2025) EllapsedTime: 11.0 seconds RetCode: 0 Status: OK PackageFile: OnassisJavaLibs_1.32.0.tar.gz PackageFileSize: 85.26 MiB